BEGIN:VCALENDAR
VERSION:2.0
PRODID:-//Dana-Farber Cancer Institute - ECPv6.15.20//NONSGML v1.0//EN
CALSCALE:GREGORIAN
METHOD:PUBLISH
X-WR-CALNAME:Dana-Farber Cancer Institute
X-ORIGINAL-URL:https://ds.dfci.harvard.edu
X-WR-CALDESC:Events for Dana-Farber Cancer Institute
REFRESH-INTERVAL;VALUE=DURATION:PT1H
X-Robots-Tag:noindex
X-PUBLISHED-TTL:PT1H
BEGIN:VTIMEZONE
TZID:America/New_York
BEGIN:DAYLIGHT
TZOFFSETFROM:-0500
TZOFFSETTO:-0400
TZNAME:EDT
DTSTART:20180311T070000
END:DAYLIGHT
BEGIN:STANDARD
TZOFFSETFROM:-0400
TZOFFSETTO:-0500
TZNAME:EST
DTSTART:20181104T060000
END:STANDARD
BEGIN:DAYLIGHT
TZOFFSETFROM:-0500
TZOFFSETTO:-0400
TZNAME:EDT
DTSTART:20190310T070000
END:DAYLIGHT
BEGIN:STANDARD
TZOFFSETFROM:-0400
TZOFFSETTO:-0500
TZNAME:EST
DTSTART:20191103T060000
END:STANDARD
BEGIN:DAYLIGHT
TZOFFSETFROM:-0500
TZOFFSETTO:-0400
TZNAME:EDT
DTSTART:20200308T070000
END:DAYLIGHT
BEGIN:STANDARD
TZOFFSETFROM:-0400
TZOFFSETTO:-0500
TZNAME:EST
DTSTART:20201101T060000
END:STANDARD
BEGIN:DAYLIGHT
TZOFFSETFROM:-0500
TZOFFSETTO:-0400
TZNAME:EDT
DTSTART:20210314T070000
END:DAYLIGHT
BEGIN:STANDARD
TZOFFSETFROM:-0400
TZOFFSETTO:-0500
TZNAME:EST
DTSTART:20211107T060000
END:STANDARD
END:VTIMEZONE
BEGIN:VEVENT
DTSTART;TZID=America/New_York:20200402T130000
DTEND;TZID=America/New_York:20200402T140000
DTSTAMP:20260419T145319
CREATED:20200612T115313Z
LAST-MODIFIED:20200612T122256Z
UID:1618-1585832400-1585836000@ds.dfci.harvard.edu
SUMMARY:COVID-19 Data Science Zoomposium
DESCRIPTION:Caroline Buckee\, Department of Biostatistics\nHarvard TH Chan School of Public Health\nHow do we predict the pandemic? \nMichael Mina\, Department of Epidemiology\nHarvard TH Chan School of Public Health\nThe importance and challenges of testing for COVID-19 \nNatalie Dean\, Department of Biostatistics\, University of Florida\nHow we evaluate the efficacy of potential therapies and vaccines  \nAlexis Madrigal\, The Atlantic\nJournalism in the time of COVID-19 \nModerated by Rafael Irizarry \nSponsored by the Department of Data Sciences\, Dana-Farber Cancer Institute\nand the Brown Institute for Media Innovation\, Columbia University
URL:https://ds.dfci.harvard.edu/event/covid-19-data-science-zoomposium/
CATEGORIES:Seminar
ATTACH;FMTTYPE=image/png:https://ds.dfci.harvard.edu/wp-content/uploads/2020/06/logo.png
END:VEVENT
BEGIN:VEVENT
DTSTART;TZID=America/New_York:20200226T100000
DTEND;TZID=America/New_York:20200226T120000
DTSTAMP:20260419T145319
CREATED:20200429T162749Z
LAST-MODIFIED:20200511T121722Z
UID:651-1582711200-1582718400@ds.dfci.harvard.edu
SUMMARY:Introduction to single cell RNA-seq data analysis for statisticians
DESCRIPTION:Data Science Training Session\nKelly Street\, Research Fellow\nEtai Jacob\, Research Fellow \nIn this short course\, we will introduce some of the most widely used tools for single cell analysis. We will describe common experimental methods utilized in the community to generate single cell RNA-seq data and demonstrate modern pre-processing and analysis pipelines. In addition\, we will discuss potential problems which frequently show up in analysis and ways to deal with them. After our first meeting\, participants will be encouraged to practice some of the workflows we will share with them in order to discuss issues they encountered during the second meeting.
URL:https://ds.dfci.harvard.edu/event/introduction-to-single-cell-rna-seq-data-analysis-for-statisticians/2020-02-26/
LOCATION:Center of Life Sciences\, Room 11081\, 3 Blackfan Circle\, Boston\, MA\, 02215\, United States
CATEGORIES:Training Session
ATTACH;FMTTYPE=image/png:https://ds.dfci.harvard.edu/wp-content/uploads/2020/04/street_jacob_TS.png
GEO:42.3394159;-71.104234
X-APPLE-STRUCTURED-LOCATION;VALUE=URI;X-ADDRESS=Center of Life Sciences Room 11081 3 Blackfan Circle Boston MA 02215 United States;X-APPLE-RADIUS=500;X-TITLE=3 Blackfan Circle:geo:-71.104234,42.3394159
END:VEVENT
BEGIN:VEVENT
DTSTART;TZID=America/New_York:20200219T100000
DTEND;TZID=America/New_York:20200219T120000
DTSTAMP:20260419T145319
CREATED:20200429T161423Z
LAST-MODIFIED:20200511T121722Z
UID:644-1582106400-1582113600@ds.dfci.harvard.edu
SUMMARY:Alternatives to Hazard Ratio for Quantifying Treatment Effect on Time-to-Event Outcomes
DESCRIPTION:Data Science Training Session\nHajime Uno\nAssistant Professor\, Department of Data Science\nDana-Farber Cancer Institute
URL:https://ds.dfci.harvard.edu/event/alternatives-to-hazard-ratio-for-quantifying-treatment-effect-on-time-to-event-outcomes/
LOCATION:Center of Life Sciences\, Room 11081\, 3 Blackfan Circle\, Boston\, MA\, 02215\, United States
CATEGORIES:Training Session
ATTACH;FMTTYPE=image/png:https://ds.dfci.harvard.edu/wp-content/uploads/2020/04/uno_TS.png
GEO:42.3394159;-71.104234
X-APPLE-STRUCTURED-LOCATION;VALUE=URI;X-ADDRESS=Center of Life Sciences Room 11081 3 Blackfan Circle Boston MA 02215 United States;X-APPLE-RADIUS=500;X-TITLE=3 Blackfan Circle:geo:-71.104234,42.3394159
END:VEVENT
BEGIN:VEVENT
DTSTART;TZID=America/New_York:20200207T160000
DTEND;TZID=America/New_York:20200207T170000
DTSTAMP:20260419T145319
CREATED:20200429T163321Z
LAST-MODIFIED:20200612T115603Z
UID:656-1581091200-1581094800@ds.dfci.harvard.edu
SUMMARY:The Clinical Impact of Genomics in the Pediatric Oncology
DESCRIPTION:DFCI Genomics Meetup\nKatherine Janeway\, MD\nPediatric Oncology\nDana-Farber Cancer Institute \nPizza is provided. \n 
URL:https://ds.dfci.harvard.edu/event/the-clinical-impact-of-genomics-in-the-pediatric-oncology/
LOCATION:Center of Life Sciences\, Room 11081\, 3 Blackfan Circle\, Boston\, MA\, 02215\, United States
CATEGORIES:Meetup
ATTACH;FMTTYPE=image/jpeg:https://ds.dfci.harvard.edu/wp-content/uploads/2020/04/katherine-janeway-1.jpg
GEO:42.3394159;-71.104234
X-APPLE-STRUCTURED-LOCATION;VALUE=URI;X-ADDRESS=Center of Life Sciences Room 11081 3 Blackfan Circle Boston MA 02215 United States;X-APPLE-RADIUS=500;X-TITLE=3 Blackfan Circle:geo:-71.104234,42.3394159
END:VEVENT
BEGIN:VEVENT
DTSTART;TZID=America/New_York:20200122T100000
DTEND;TZID=America/New_York:20200122T120000
DTSTAMP:20260419T145319
CREATED:20200429T131206Z
LAST-MODIFIED:20200511T121722Z
UID:632-1579687200-1579694400@ds.dfci.harvard.edu
SUMMARY:Collaborative Grant Writing and Statistical Methods for Grants
DESCRIPTION:Data Sciences Training Session\nRebecca Gelman\, PhD\nAssociate Professor\, Department of Data Sciences\nDana-Farber Cancer Institute
URL:https://ds.dfci.harvard.edu/event/collaborative-grant-writing-and-statistical-methods-for-grants/
LOCATION:Center of Life Sciences\, Room 11081\, 3 Blackfan Circle\, Boston\, MA\, 02215\, United States
CATEGORIES:Training Session
ATTACH;FMTTYPE=image/png:https://ds.dfci.harvard.edu/wp-content/uploads/2020/04/gelman_TS.png
GEO:42.3394159;-71.104234
X-APPLE-STRUCTURED-LOCATION;VALUE=URI;X-ADDRESS=Center of Life Sciences Room 11081 3 Blackfan Circle Boston MA 02215 United States;X-APPLE-RADIUS=500;X-TITLE=3 Blackfan Circle:geo:-71.104234,42.3394159
END:VEVENT
BEGIN:VEVENT
DTSTART;TZID=America/New_York:20200121T130000
DTEND;TZID=America/New_York:20200121T140000
DTSTAMP:20260419T145319
CREATED:20200429T130831Z
LAST-MODIFIED:20200511T121722Z
UID:622-1579611600-1579615200@ds.dfci.harvard.edu
SUMMARY:NEJM Statistical Guidelines for Authors: Under the Hood
DESCRIPTION:Data Sciences Training Session\nDavid Harrington\, PhD\nProfessor\, Department of Data Sciences\nDana-Farber Cancer Institute
URL:https://ds.dfci.harvard.edu/event/david-harrington-presents-nejm-statistical-guidelines-for-authors/
LOCATION:Center of Life Sciences\, Room 11081\, 3 Blackfan Circle\, Boston\, MA\, 02215\, United States
CATEGORIES:Training Session
ATTACH;FMTTYPE=image/png:https://ds.dfci.harvard.edu/wp-content/uploads/2020/04/harrington_TS.png
GEO:42.3394159;-71.104234
X-APPLE-STRUCTURED-LOCATION;VALUE=URI;X-ADDRESS=Center of Life Sciences Room 11081 3 Blackfan Circle Boston MA 02215 United States;X-APPLE-RADIUS=500;X-TITLE=3 Blackfan Circle:geo:-71.104234,42.3394159
END:VEVENT
BEGIN:VEVENT
DTSTART;TZID=America/New_York:20191204T050000
DTEND;TZID=America/New_York:20191204T070000
DTSTAMP:20260419T145319
CREATED:20200408T213229Z
LAST-MODIFIED:20200511T121722Z
UID:94-1575435600-1575442800@ds.dfci.harvard.edu
SUMMARY:Design of Phase III Studies
DESCRIPTION:Data Sciences Training Session\nDesign of Phase III Studies\, Part II \nRobert Gray\, PhD\nProfessor\, Department of Data Science\nDana-Farber Cancer Institute
URL:https://ds.dfci.harvard.edu/event/robert-gray-phd-leads-training-on-design-of-phase-iii-studies/
LOCATION:Center of Life Sciences\, Room 11081\, 3 Blackfan Circle\, Boston\, MA\, 02215\, United States
CATEGORIES:Training Session
ATTACH;FMTTYPE=image/png:https://ds.dfci.harvard.edu/wp-content/uploads/2020/04/robert-gray-event.png
GEO:42.3394159;-71.104234
X-APPLE-STRUCTURED-LOCATION;VALUE=URI;X-ADDRESS=Center of Life Sciences Room 11081 3 Blackfan Circle Boston MA 02215 United States;X-APPLE-RADIUS=500;X-TITLE=3 Blackfan Circle:geo:-71.104234,42.3394159
END:VEVENT
END:VCALENDAR