BEGIN:VCALENDAR
VERSION:2.0
PRODID:-//Dana-Farber Cancer Institute - ECPv6.15.20//NONSGML v1.0//EN
CALSCALE:GREGORIAN
METHOD:PUBLISH
X-WR-CALNAME:Dana-Farber Cancer Institute
X-ORIGINAL-URL:https://ds.dfci.harvard.edu
X-WR-CALDESC:Events for Dana-Farber Cancer Institute
REFRESH-INTERVAL;VALUE=DURATION:PT1H
X-Robots-Tag:noindex
X-PUBLISHED-TTL:PT1H
BEGIN:VTIMEZONE
TZID:America/New_York
BEGIN:DAYLIGHT
TZOFFSETFROM:-0500
TZOFFSETTO:-0400
TZNAME:EDT
DTSTART:20240310T070000
END:DAYLIGHT
BEGIN:STANDARD
TZOFFSETFROM:-0400
TZOFFSETTO:-0500
TZNAME:EST
DTSTART:20241103T060000
END:STANDARD
BEGIN:DAYLIGHT
TZOFFSETFROM:-0500
TZOFFSETTO:-0400
TZNAME:EDT
DTSTART:20250309T070000
END:DAYLIGHT
BEGIN:STANDARD
TZOFFSETFROM:-0400
TZOFFSETTO:-0500
TZNAME:EST
DTSTART:20251102T060000
END:STANDARD
BEGIN:DAYLIGHT
TZOFFSETFROM:-0500
TZOFFSETTO:-0400
TZNAME:EDT
DTSTART:20260308T070000
END:DAYLIGHT
BEGIN:STANDARD
TZOFFSETFROM:-0400
TZOFFSETTO:-0500
TZNAME:EST
DTSTART:20261101T060000
END:STANDARD
END:VTIMEZONE
BEGIN:VEVENT
DTSTART;VALUE=DATE:20250919
DTEND;VALUE=DATE:20250920
DTSTAMP:20260419T081635
CREATED:20250721T165244Z
LAST-MODIFIED:20250922T133650Z
UID:6268-1758240000-1758326399@ds.dfci.harvard.edu
SUMMARY:Call for Abstracts: DF/HCC Early Career Investigators Symposium
DESCRIPTION:2025 Dana-Farber/Harvard Cancer Center Celebration of Early Career Investigators\nNovember 4\, 2025 from 1:00-5:30PM\nIn-Person at Dana Farber Cancer Institute\nYawkey Conference Center \nDo you work in population science\, including epidemiology\, biostatistics\, outcomes\, diversity\, cancer care delivery research\, and early detection? We invite students\, postdocs\, residents\, and clinical fellows to submit abstracts for consideration as a short talk or as part of the PATHFINDER sponsored poster presentation. \nhttps://bit.ly/ecis2025abstract\nSubmit your abstract by September 19 \n2025 KEYNOTE SPEAKER\nJane J Kim\nDean for Academic Affairs at the Harvard T.H. Chan School of Public Health\nVisit Profile \n  \nRegistration for the public now open at https://bit.ly/ECIS2025
URL:https://ds.dfci.harvard.edu/event/call-for-abstracts-df-hcc-early-career-investigators-symposium/
CATEGORIES:Symposium
ATTACH;FMTTYPE=image/png:https://ds.dfci.harvard.edu/wp-content/uploads/2024/01/logo-only-e1704401329917.png
END:VEVENT
END:VCALENDAR