BEGIN:VCALENDAR
VERSION:2.0
PRODID:-//Dana-Farber Cancer Institute - ECPv6.15.20//NONSGML v1.0//EN
CALSCALE:GREGORIAN
METHOD:PUBLISH
X-WR-CALNAME:Dana-Farber Cancer Institute
X-ORIGINAL-URL:https://ds.dfci.harvard.edu
X-WR-CALDESC:Events for Dana-Farber Cancer Institute
REFRESH-INTERVAL;VALUE=DURATION:PT1H
X-Robots-Tag:noindex
X-PUBLISHED-TTL:PT1H
BEGIN:VTIMEZONE
TZID:America/New_York
BEGIN:DAYLIGHT
TZOFFSETFROM:-0500
TZOFFSETTO:-0400
TZNAME:EDT
DTSTART:20230312T070000
END:DAYLIGHT
BEGIN:STANDARD
TZOFFSETFROM:-0400
TZOFFSETTO:-0500
TZNAME:EST
DTSTART:20231105T060000
END:STANDARD
BEGIN:DAYLIGHT
TZOFFSETFROM:-0500
TZOFFSETTO:-0400
TZNAME:EDT
DTSTART:20240310T070000
END:DAYLIGHT
BEGIN:STANDARD
TZOFFSETFROM:-0400
TZOFFSETTO:-0500
TZNAME:EST
DTSTART:20241103T060000
END:STANDARD
BEGIN:DAYLIGHT
TZOFFSETFROM:-0500
TZOFFSETTO:-0400
TZNAME:EDT
DTSTART:20250309T070000
END:DAYLIGHT
BEGIN:STANDARD
TZOFFSETFROM:-0400
TZOFFSETTO:-0500
TZNAME:EST
DTSTART:20251102T060000
END:STANDARD
END:VTIMEZONE
BEGIN:VEVENT
DTSTART;TZID=America/New_York:20241203T130000
DTEND;TZID=America/New_York:20241203T170000
DTSTAMP:20260419T233915
CREATED:20241029T142848Z
LAST-MODIFIED:20241204T125040Z
UID:5655-1733230800-1733245200@ds.dfci.harvard.edu
SUMMARY:2024 DF/HCC Celebration of Early Career Investigators in Cancer Research
DESCRIPTION:Early career investigators are a unique reservoir of new ideas\, innovation\, and excellence in cancer research. To celebrate this\, we welcome you to join the 12th Annual DF/HCC Celebration of Early Investigators in Cancer Research. This symposium will showcase the talent of early career investigators at the Dana-Farber/Harvard Cancer Center (DF/HCC) who work in several areas of population science\, including epidemiology\, biostatistics\, outcomes\, diversity\, and survivorship. We invite all members of the public to attend the event. \nThis event will be held in-person at Dana-Farber Cancer Institute in the Yawkey Conference Center. \nAgenda  \nRegister to attend.  \nKeynote Speaker\n  \nScout\, Ph.D.\, M.A.\, Executive Director of the National LGBT Cancer Network\nVisit Profile
URL:https://ds.dfci.harvard.edu/event/2025-df-hcc-celebration-of-early-career-investigators-in-cancer-research/
CATEGORIES:Symposium
ATTACH;FMTTYPE=image/png:https://ds.dfci.harvard.edu/wp-content/uploads/2024/01/logo-only-e1704401329917.png
END:VEVENT
END:VCALENDAR