BEGIN:VCALENDAR
VERSION:2.0
PRODID:-//Dana-Farber Cancer Institute - ECPv6.15.20//NONSGML v1.0//EN
CALSCALE:GREGORIAN
METHOD:PUBLISH
X-ORIGINAL-URL:https://ds.dfci.harvard.edu
X-WR-CALDESC:Events for Dana-Farber Cancer Institute
REFRESH-INTERVAL;VALUE=DURATION:PT1H
X-Robots-Tag:noindex
X-PUBLISHED-TTL:PT1H
BEGIN:VTIMEZONE
TZID:America/New_York
BEGIN:DAYLIGHT
TZOFFSETFROM:-0500
TZOFFSETTO:-0400
TZNAME:EDT
DTSTART:20230312T070000
END:DAYLIGHT
BEGIN:STANDARD
TZOFFSETFROM:-0400
TZOFFSETTO:-0500
TZNAME:EST
DTSTART:20231105T060000
END:STANDARD
BEGIN:DAYLIGHT
TZOFFSETFROM:-0500
TZOFFSETTO:-0400
TZNAME:EDT
DTSTART:20240310T070000
END:DAYLIGHT
BEGIN:STANDARD
TZOFFSETFROM:-0400
TZOFFSETTO:-0500
TZNAME:EST
DTSTART:20241103T060000
END:STANDARD
BEGIN:DAYLIGHT
TZOFFSETFROM:-0500
TZOFFSETTO:-0400
TZNAME:EDT
DTSTART:20250309T070000
END:DAYLIGHT
BEGIN:STANDARD
TZOFFSETFROM:-0400
TZOFFSETTO:-0500
TZNAME:EST
DTSTART:20251102T060000
END:STANDARD
END:VTIMEZONE
BEGIN:VEVENT
DTSTART;TZID=America/New_York:20241011T160000
DTEND;TZID=America/New_York:20241011T170000
DTSTAMP:20260420T032148
CREATED:20240920T175432Z
LAST-MODIFIED:20241008T113541Z
UID:5562-1728662400-1728666000@ds.dfci.harvard.edu
SUMMARY:Call for abstracts: DF/HCC Celebration of Early Career Investigators
DESCRIPTION:The Dana-Farber/Harvard Cancer Center will be holding its annual Celebration of Early Career Investigators on December 3rd\, 2024 from 1:00 – 5:00 PM in-person at the Dana-Farber Cancer Institute. \nWe encourage students\, postdocs\, residents\, clinical fellows\, and instructors to submit abstracts for consideration as a short talk or as part of the PATHFINDER sponsored poster presentation by October 11th. \n\nTo submit an abstract\, please visit: https://bit.ly/ECIS2024Abstract\nTo register to attend the event\, please visit: https://bit.ly/ECIS2024\nFor more information\, please visit our event website.
URL:https://ds.dfci.harvard.edu/event/call-for-abstracts-df-hcc-celebration-of-early-career-investigators/
CATEGORIES:Symposium
ATTACH;FMTTYPE=image/png:https://ds.dfci.harvard.edu/wp-content/uploads/2024/01/logo-only-e1704401329917.png
END:VEVENT
END:VCALENDAR