BEGIN:VCALENDAR
VERSION:2.0
PRODID:-//Dana-Farber Cancer Institute - ECPv6.15.20//NONSGML v1.0//EN
CALSCALE:GREGORIAN
METHOD:PUBLISH
X-ORIGINAL-URL:https://ds.dfci.harvard.edu
X-WR-CALDESC:Events for Dana-Farber Cancer Institute
REFRESH-INTERVAL;VALUE=DURATION:PT1H
X-Robots-Tag:noindex
X-PUBLISHED-TTL:PT1H
BEGIN:VTIMEZONE
TZID:America/New_York
BEGIN:DAYLIGHT
TZOFFSETFROM:-0500
TZOFFSETTO:-0400
TZNAME:EDT
DTSTART:20230312T070000
END:DAYLIGHT
BEGIN:STANDARD
TZOFFSETFROM:-0400
TZOFFSETTO:-0500
TZNAME:EST
DTSTART:20231105T060000
END:STANDARD
BEGIN:DAYLIGHT
TZOFFSETFROM:-0500
TZOFFSETTO:-0400
TZNAME:EDT
DTSTART:20240310T070000
END:DAYLIGHT
BEGIN:STANDARD
TZOFFSETFROM:-0400
TZOFFSETTO:-0500
TZNAME:EST
DTSTART:20241103T060000
END:STANDARD
BEGIN:DAYLIGHT
TZOFFSETFROM:-0500
TZOFFSETTO:-0400
TZNAME:EDT
DTSTART:20250309T070000
END:DAYLIGHT
BEGIN:STANDARD
TZOFFSETFROM:-0400
TZOFFSETTO:-0500
TZNAME:EST
DTSTART:20251102T060000
END:STANDARD
END:VTIMEZONE
BEGIN:VEVENT
DTSTART;TZID=America/New_York:20241205T100000
DTEND;TZID=America/New_York:20241205T120000
DTSTAMP:20260419T095449
CREATED:20241029T143216Z
LAST-MODIFIED:20241206T124841Z
UID:5660-1733392800-1733400000@ds.dfci.harvard.edu
SUMMARY:Spatial Transcriptomics Deconvolution Analysis
DESCRIPTION:The Harvard Chan Bioinformatics Core in partnership with The Cancer Data Sciences Program at DF/HCC are very excited to present the Fall seminar series: \nNovel Applications in Single Cell Omics \n\n\n\nLigand receptor analysis in a spatial context\nNovember 7th\nSizun Jiang\, PhD\nBeth Israel Deaconess Medical Center Harvard Medical School \nMartin Hemberg\, PhD and Jingyi Cao\, PhD Brigham and Women’s Hospital\nHarvard Medical School \nTrajectory inference in single cell data\nNovember 21st\nLuca Pinello\, PhD and Cameron Ray Smith\, MD\, PhD\nMassachusetts General Hospital \nSpatial transcriptomics deconvolution analysis\nDecember 5th\nKevin Wei\, MD\, PhD Brigham and Women’s Hospital\nRuben Dries\, PhD and George Chen Boston University School of Medicine \nAll seminar sessions are hybrid events being held from 10am to noon.\nLocation: CLSB Building\, 3 Blackfan Circle\, Boston MA 02115 \n\n\n\n\nRegister now at: https://bit.ly/fall2024_speaker_series
URL:https://ds.dfci.harvard.edu/event/spatial-transcriptomics-deconvolution-analysis/
CATEGORIES:Seminar
ATTACH;FMTTYPE=image/png:https://ds.dfci.harvard.edu/wp-content/uploads/2024/10/HBCFall24.png
END:VEVENT
BEGIN:VEVENT
DTSTART;TZID=America/New_York:20241211T120000
DTEND;TZID=America/New_York:20241211T130000
DTSTAMP:20260419T095449
CREATED:20241204T191023Z
LAST-MODIFIED:20241211T183620Z
UID:5718-1733918400-1733922000@ds.dfci.harvard.edu
SUMMARY:EVOCANCERGPT: Generating Cancer Progression and Treatment Responses with Single-Cell RNA Sequences
DESCRIPTION:CompBio Connection Seminar Series \nWednesday December 11 at 12:00pm\nZelen Commons\, 11th floor\nCenter for Life Sciences Building \nSam Wang\, Computational Biologist\, Department of Data Science \nLunch is provided.
URL:https://ds.dfci.harvard.edu/event/evocancergpt-generating-cancer-progression-and-treatment-responses-with-single-cell-rna-sequences/
CATEGORIES:Seminar
ATTACH;FMTTYPE=image/jpeg:https://ds.dfci.harvard.edu/wp-content/uploads/2024/12/Wang_Sam.jpeg
END:VEVENT
BEGIN:VEVENT
DTSTART;TZID=America/New_York:20241219T120000
DTEND;TZID=America/New_York:20241219T130000
DTSTAMP:20260419T095449
CREATED:20241209T183348Z
LAST-MODIFIED:20250114T202112Z
UID:5733-1734609600-1734613200@ds.dfci.harvard.edu
SUMMARY:Interpretable and Data-driven Machine Learning Models for Analyzing High-dimensional Biological Data
DESCRIPTION:Data Science Seminar \nThursday December 19\, 2024 – 12pm-1pm\nCenter for Life Sciences Building\, room 11081 \nJunchen Yang\nDepartment of Computational Biology and Bioinformatics\, Yale University
URL:https://ds.dfci.harvard.edu/event/interpretable-and-data-driven-machine-learning-models-for-analyzing-high-dimensional-biological-data/
CATEGORIES:Seminar
ATTACH;FMTTYPE=image/jpeg:https://ds.dfci.harvard.edu/wp-content/uploads/2024/12/junchen-scaled-e1733769209863.jpeg
END:VEVENT
END:VCALENDAR