BEGIN:VCALENDAR
VERSION:2.0
PRODID:-//Dana-Farber Cancer Institute - ECPv6.15.20//NONSGML v1.0//EN
CALSCALE:GREGORIAN
METHOD:PUBLISH
X-ORIGINAL-URL:https://ds.dfci.harvard.edu
X-WR-CALDESC:Events for Dana-Farber Cancer Institute
REFRESH-INTERVAL;VALUE=DURATION:PT1H
X-Robots-Tag:noindex
X-PUBLISHED-TTL:PT1H
BEGIN:VTIMEZONE
TZID:America/New_York
BEGIN:DAYLIGHT
TZOFFSETFROM:-0500
TZOFFSETTO:-0400
TZNAME:EDT
DTSTART:20230312T070000
END:DAYLIGHT
BEGIN:STANDARD
TZOFFSETFROM:-0400
TZOFFSETTO:-0500
TZNAME:EST
DTSTART:20231105T060000
END:STANDARD
BEGIN:DAYLIGHT
TZOFFSETFROM:-0500
TZOFFSETTO:-0400
TZNAME:EDT
DTSTART:20240310T070000
END:DAYLIGHT
BEGIN:STANDARD
TZOFFSETFROM:-0400
TZOFFSETTO:-0500
TZNAME:EST
DTSTART:20241103T060000
END:STANDARD
BEGIN:DAYLIGHT
TZOFFSETFROM:-0500
TZOFFSETTO:-0400
TZNAME:EDT
DTSTART:20250309T070000
END:DAYLIGHT
BEGIN:STANDARD
TZOFFSETFROM:-0400
TZOFFSETTO:-0500
TZNAME:EST
DTSTART:20251102T060000
END:STANDARD
END:VTIMEZONE
BEGIN:VEVENT
DTSTART;TZID=America/New_York:20241106T120000
DTEND;TZID=America/New_York:20241106T130000
DTSTAMP:20260419T113257
CREATED:20241029T141932Z
LAST-MODIFIED:20241029T141932Z
UID:5644-1730894400-1730898000@ds.dfci.harvard.edu
SUMMARY:Harnessing Bioinformatics for Cancer Research at DFCI
DESCRIPTION:Compbio Connections\n\nNovember 6\, 12:00 -1:00 PM ET\nCenter for Life Sciences Building\, 11th floor\, Zelen Commons \n\n\n\n\nMichael Tolstorukov\nDirector\, Bioinformatics and Molecular Data\, Informatics and Analytics\, Dana-Farber Cancer Institute \n\n\n\n\nLunch is provided.
URL:https://ds.dfci.harvard.edu/event/harnessing-bioinformatics-for-cancer-research-at-dfci/
CATEGORIES:Seminar
ATTACH;FMTTYPE=image/jpeg:https://ds.dfci.harvard.edu/wp-content/uploads/2024/10/T_Michael_headshot-e1730211557553.jpg
END:VEVENT
BEGIN:VEVENT
DTSTART;TZID=America/New_York:20241107T100000
DTEND;TZID=America/New_York:20241107T120000
DTSTAMP:20260419T113257
CREATED:20241023T164140Z
LAST-MODIFIED:20241023T164140Z
UID:5634-1730973600-1730980800@ds.dfci.harvard.edu
SUMMARY:Ligand Receptor Analysis in a Spatial Context
DESCRIPTION:The Harvard Chan Bioinformatics Core in partnership with The Cancer Data Sciences Program at DF/HCC are very excited to present the Fall seminar series: \nNovel Applications in Single Cell Omics \n\n\n\nLigand receptor analysis in a spatial context \nNovember 7th\nSizun Jiang\, PhD\nBeth Israel Deaconess Medical Center Harvard Medical School \nMartin Hemberg\, PhD and Jingyi Cao\, PhD Brigham and Women’s Hospital\nHarvard Medical School \nTrajectory inference in single cell data\nNovember 21st\nLuca Pinello\, PhD and Cameron Ray Smith\, MD\, PhD\nMassachusetts General Hospital \nSpatial transcriptomics deconvolution analysis\nDecember 5th\nKevin Wei\, MD\, PhD Brigham and Women’s Hospital\nRuben Dries\, PhD and George Chen Boston University School of Medicine \nAll seminar sessions are hybrid events being held from 10am to noon.\nLocation: CLSB Building\, 3 Blackfan Circle\, Boston MA 02115 \n\n\n\n\nRegister now at: https://bit.ly/fall2024_speaker_series
URL:https://ds.dfci.harvard.edu/event/ligand-receptor-analysis-in-a-spatial-context/
CATEGORIES:Seminar
ATTACH;FMTTYPE=image/png:https://ds.dfci.harvard.edu/wp-content/uploads/2024/10/HBCFall24.png
END:VEVENT
BEGIN:VEVENT
DTSTART;TZID=America/New_York:20241120T120000
DTEND;TZID=America/New_York:20241120T130000
DTSTAMP:20260419T113257
CREATED:20241108T140605Z
LAST-MODIFIED:20241120T192210Z
UID:5679-1732104000-1732107600@ds.dfci.harvard.edu
SUMMARY:Niche-Driven Phenotypic Plasticity And Cis-Regulatory Dynamics Of A Revised Model For Intestinal Epithelial Differentiation
DESCRIPTION:CompBio Connections \nNovember 20th at 12pm\nCenter for Life Sciences Building\, 11th floor \nSwarnabh Bhattacharya\nResearch Fellow Dana-Farber Cancer Institute\n\nLunch is provided.
URL:https://ds.dfci.harvard.edu/event/niche-driven-phenotypic-plasticity-and-cis-regulatory-dynamics-of-a-revised-model-for-intestinal-epithelial-differentiation/
CATEGORIES:Seminar
ATTACH;FMTTYPE=image/png:https://ds.dfci.harvard.edu/wp-content/uploads/2024/11/Zico_headshot-e1731074579602.png
END:VEVENT
BEGIN:VEVENT
DTSTART;TZID=America/New_York:20241121T100000
DTEND;TZID=America/New_York:20241121T120000
DTSTAMP:20260419T113257
CREATED:20241029T142503Z
LAST-MODIFIED:20241029T142503Z
UID:5650-1732183200-1732190400@ds.dfci.harvard.edu
SUMMARY:Trajectory Inference in Single Cell Data
DESCRIPTION:The Harvard Chan Bioinformatics Core in partnership with The Cancer Data Sciences Program at DF/HCC are very excited to present the Fall seminar series: \nNovel Applications in Single Cell Omics \n\n\n\nLigand receptor analysis in a spatial context\nNovember 7th\nSizun Jiang\, PhD\nBeth Israel Deaconess Medical Center Harvard Medical School \nMartin Hemberg\, PhD and Jingyi Cao\, PhD Brigham and Women’s Hospital\nHarvard Medical School \nTrajectory inference in single cell data\nNovember 21st\nLuca Pinello\, PhD and Cameron Ray Smith\, MD\, PhD\nMassachusetts General Hospital \nSpatial transcriptomics deconvolution analysis\nDecember 5th\nKevin Wei\, MD\, PhD Brigham and Women’s Hospital\nRuben Dries\, PhD and George Chen Boston University School of Medicine \nAll seminar sessions are hybrid events being held from 10am to noon.\nLocation: CLSB Building\, 3 Blackfan Circle\, Boston MA 02115 \n\n\n\n\nRegister now at: https://bit.ly/fall2024_speaker_series
URL:https://ds.dfci.harvard.edu/event/trajectory-inference-in-single-cell-data/
CATEGORIES:Seminar
ATTACH;FMTTYPE=image/png:https://ds.dfci.harvard.edu/wp-content/uploads/2024/10/HBCFall24.png
END:VEVENT
BEGIN:VEVENT
DTSTART;TZID=America/New_York:20241121T160000
DTEND;TZID=America/New_York:20241121T170000
DTSTAMP:20260419T113257
CREATED:20241119T210657Z
LAST-MODIFIED:20241126T123840Z
UID:5686-1732204800-1732208400@ds.dfci.harvard.edu
SUMMARY:Enhanced Insights for Rare Diseases: Leveraging External Controls and Longitudinal Data in snSMART Designs
DESCRIPTION:HSPH Biostatistics/DFCI Data Science Colloquium \nThursday\, November 21 at 4:00pm\nHarvard TH Chan School of Public Health\nFXB-G01 \nKelley Kidwell\, PhD\nProfessor\, Biostatistics\nAssociate Chair for Academic Affairs\, Biostatistics\nUniversity of Michigan\, Ann Arbor
URL:https://ds.dfci.harvard.edu/event/enhanced-insights-for-rare-diseases-leveraging-external-controls-and-longitudinal-data-in-snsmart-designs/
CATEGORIES:Seminar
ATTACH;FMTTYPE=image/png:https://ds.dfci.harvard.edu/wp-content/uploads/2024/11/kidwell-crop.png
END:VEVENT
END:VCALENDAR