BEGIN:VCALENDAR
VERSION:2.0
PRODID:-//Dana-Farber Cancer Institute - ECPv6.15.20//NONSGML v1.0//EN
CALSCALE:GREGORIAN
METHOD:PUBLISH
X-ORIGINAL-URL:https://ds.dfci.harvard.edu
X-WR-CALDESC:Events for Dana-Farber Cancer Institute
REFRESH-INTERVAL;VALUE=DURATION:PT1H
X-Robots-Tag:noindex
X-PUBLISHED-TTL:PT1H
BEGIN:VTIMEZONE
TZID:America/New_York
BEGIN:DAYLIGHT
TZOFFSETFROM:-0500
TZOFFSETTO:-0400
TZNAME:EDT
DTSTART:20210314T070000
END:DAYLIGHT
BEGIN:STANDARD
TZOFFSETFROM:-0400
TZOFFSETTO:-0500
TZNAME:EST
DTSTART:20211107T060000
END:STANDARD
BEGIN:DAYLIGHT
TZOFFSETFROM:-0500
TZOFFSETTO:-0400
TZNAME:EDT
DTSTART:20220313T070000
END:DAYLIGHT
BEGIN:STANDARD
TZOFFSETFROM:-0400
TZOFFSETTO:-0500
TZNAME:EST
DTSTART:20221106T060000
END:STANDARD
BEGIN:DAYLIGHT
TZOFFSETFROM:-0500
TZOFFSETTO:-0400
TZNAME:EDT
DTSTART:20230312T070000
END:DAYLIGHT
BEGIN:STANDARD
TZOFFSETFROM:-0400
TZOFFSETTO:-0500
TZNAME:EST
DTSTART:20231105T060000
END:STANDARD
END:VTIMEZONE
BEGIN:VEVENT
DTSTART;TZID=America/New_York:20220111T130000
DTEND;TZID=America/New_York:20220111T140000
DTSTAMP:20260422T040923
CREATED:20211130T233743Z
LAST-MODIFIED:20220111T182225Z
UID:3204-1641906000-1641909600@ds.dfci.harvard.edu
SUMMARY:Frontiers in Biostatistics: Studies on COVID-19 and Cancer using National Real-World VA Data
DESCRIPTION:Nathanael Fillmore is the Associate Director for Machine Learning and Advanced Analytics at the VA Boston Healthcare System’s Cooperative Studies Program Informatics Center. He leads a data science team focused on using machine learning and data science methods\, in combination with the VA’s large clinical\, genomic\, and imaging databases\, to generate knowledge and resources that will improve care for Veterans with cancer. He also holds a faculty position at Harvard Medical School and is site director for the VA/NCI Big Data-Scientist Training Enhancement Program. Previously\, he was a post-doctoral fellow at Dana-Farber Cancer Institute and Harvard School of Public Health under the direction of Giovanni Parmigiani and Nikhil Munshi. \nThis seminar was not recorded. 
URL:https://ds.dfci.harvard.edu/event/frontiers-in-biostatistics-studies-on-covid-19-and-cancer-using-national-real-world-va-data/
CATEGORIES:Seminar
ATTACH;FMTTYPE=image/png:https://ds.dfci.harvard.edu/wp-content/uploads/2021/11/headshot-square-small.png
END:VEVENT
END:VCALENDAR