BEGIN:VCALENDAR
VERSION:2.0
PRODID:-//Dana-Farber Cancer Institute - ECPv6.15.20//NONSGML v1.0//EN
CALSCALE:GREGORIAN
METHOD:PUBLISH
X-WR-CALNAME:Dana-Farber Cancer Institute
X-ORIGINAL-URL:https://ds.dfci.harvard.edu
X-WR-CALDESC:Events for Dana-Farber Cancer Institute
REFRESH-INTERVAL;VALUE=DURATION:PT1H
X-Robots-Tag:noindex
X-PUBLISHED-TTL:PT1H
BEGIN:VTIMEZONE
TZID:America/New_York
BEGIN:DAYLIGHT
TZOFFSETFROM:-0500
TZOFFSETTO:-0400
TZNAME:EDT
DTSTART:20200308T070000
END:DAYLIGHT
BEGIN:STANDARD
TZOFFSETFROM:-0400
TZOFFSETTO:-0500
TZNAME:EST
DTSTART:20201101T060000
END:STANDARD
BEGIN:DAYLIGHT
TZOFFSETFROM:-0500
TZOFFSETTO:-0400
TZNAME:EDT
DTSTART:20210314T070000
END:DAYLIGHT
BEGIN:STANDARD
TZOFFSETFROM:-0400
TZOFFSETTO:-0500
TZNAME:EST
DTSTART:20211107T060000
END:STANDARD
BEGIN:DAYLIGHT
TZOFFSETFROM:-0500
TZOFFSETTO:-0400
TZNAME:EDT
DTSTART:20220313T070000
END:DAYLIGHT
BEGIN:STANDARD
TZOFFSETFROM:-0400
TZOFFSETTO:-0500
TZNAME:EST
DTSTART:20221106T060000
END:STANDARD
END:VTIMEZONE
BEGIN:VEVENT
DTSTART;TZID=America/New_York:20210608T130000
DTEND;TZID=America/New_York:20210608T140000
DTSTAMP:20260422T173420
CREATED:20210108T131835Z
LAST-MODIFIED:20211021T134536Z
UID:2398-1623157200-1623160800@ds.dfci.harvard.edu
SUMMARY:Frontiers in Biostatistics: The Use of External Control Data for Predictions and Interim Analyses in Clinical Trials
DESCRIPTION:June 8\, 2021\n1:00PM \nLorenzo Trippa\, PhD\nAssociate Professor\nDepartment of Biostatistics\, Harvard T.H. Chan School of Public Health\nDepartment of Data Science\, Dana-Farber Cancer Institute \nThe Use of External Control Data for Predictions and Interim Analyses in Clinical Trials \nYouTube video now available.
URL:https://ds.dfci.harvard.edu/event/frontiers-in-biostatistics-lorenzo-trippa/
CATEGORIES:Seminar
ATTACH;FMTTYPE=image/png:https://ds.dfci.harvard.edu/wp-content/uploads/2021/01/trippa.png
END:VEVENT
END:VCALENDAR