BEGIN:VCALENDAR
VERSION:2.0
PRODID:-//Dana-Farber Cancer Institute - ECPv6.15.20//NONSGML v1.0//EN
CALSCALE:GREGORIAN
METHOD:PUBLISH
X-WR-CALNAME:Dana-Farber Cancer Institute
X-ORIGINAL-URL:https://ds.dfci.harvard.edu
X-WR-CALDESC:Events for Dana-Farber Cancer Institute
REFRESH-INTERVAL;VALUE=DURATION:PT1H
X-Robots-Tag:noindex
X-PUBLISHED-TTL:PT1H
BEGIN:VTIMEZONE
TZID:America/New_York
BEGIN:DAYLIGHT
TZOFFSETFROM:-0500
TZOFFSETTO:-0400
TZNAME:EDT
DTSTART:20200308T070000
END:DAYLIGHT
BEGIN:STANDARD
TZOFFSETFROM:-0400
TZOFFSETTO:-0500
TZNAME:EST
DTSTART:20201101T060000
END:STANDARD
BEGIN:DAYLIGHT
TZOFFSETFROM:-0500
TZOFFSETTO:-0400
TZNAME:EDT
DTSTART:20210314T070000
END:DAYLIGHT
BEGIN:STANDARD
TZOFFSETFROM:-0400
TZOFFSETTO:-0500
TZNAME:EST
DTSTART:20211107T060000
END:STANDARD
BEGIN:DAYLIGHT
TZOFFSETFROM:-0500
TZOFFSETTO:-0400
TZNAME:EDT
DTSTART:20220313T070000
END:DAYLIGHT
BEGIN:STANDARD
TZOFFSETFROM:-0400
TZOFFSETTO:-0500
TZNAME:EST
DTSTART:20221106T060000
END:STANDARD
END:VTIMEZONE
BEGIN:VEVENT
DTSTART;TZID=America/New_York:20210309T130000
DTEND;TZID=America/New_York:20210309T140000
DTSTAMP:20260422T234207
CREATED:20200921T180427Z
LAST-MODIFIED:20210511T181203Z
UID:2133-1615294800-1615298400@ds.dfci.harvard.edu
SUMMARY:Frontiers in Biostatistics: Distributed Statistical Learning and Inference in EHR and Other Healthcare Datasets
DESCRIPTION:Frontiers in Biostatistics Seminar\nMarch 9\, 2021\n1:00PM \nRui Duan\, PhD\nAssistant Professor of Biostatistics\nHarvard TH Chan School of Public Health \nDistributed Statistical Learning and Inference in EHR and Other Healthcare Datasets  \nAbstract: The growth of availability and variety of healthcare data sources has provided unique opportunities for data integration and evidence synthesis\, which can potentially accelerate knowledge discovery and enable better clinical decision making.  However\, many practical and technical challenges\, such as data privacy\, high-dimensionality and heterogeneity across different datasets\, remain to be addressed. In this talk\, I will introduce several methods for effective and efficient integration of electronic health records and other healthcare datasets. Specifically\, we develop communication-efficient distributed algorithms for jointly analyzing multiple datasets without the need of sharing patient-level data. Our algorithms are able to account for heterogeneity across different datasets. We provide theoretical guarantees for the performance of our algorithms\, and examples of implementing the algorithms to real-world clinical research networks. \nYouTube Link: https://www.youtube.com/watch?v=IscQ3ruxl1o
URL:https://ds.dfci.harvard.edu/event/frontiers-in-biostatistics-rui-duan/
CATEGORIES:Seminar
ATTACH;FMTTYPE=image/jpeg:https://ds.dfci.harvard.edu/wp-content/uploads/2020/09/duan4x4.jpg
END:VEVENT
END:VCALENDAR