BEGIN:VCALENDAR
VERSION:2.0
PRODID:-//Dana-Farber Cancer Institute - ECPv6.15.20//NONSGML v1.0//EN
CALSCALE:GREGORIAN
METHOD:PUBLISH
X-WR-CALNAME:Dana-Farber Cancer Institute
X-ORIGINAL-URL:https://ds.dfci.harvard.edu
X-WR-CALDESC:Events for Dana-Farber Cancer Institute
REFRESH-INTERVAL;VALUE=DURATION:PT1H
X-Robots-Tag:noindex
X-PUBLISHED-TTL:PT1H
BEGIN:VTIMEZONE
TZID:America/New_York
BEGIN:DAYLIGHT
TZOFFSETFROM:-0500
TZOFFSETTO:-0400
TZNAME:EDT
DTSTART:20200308T070000
END:DAYLIGHT
BEGIN:STANDARD
TZOFFSETFROM:-0400
TZOFFSETTO:-0500
TZNAME:EST
DTSTART:20201101T060000
END:STANDARD
BEGIN:DAYLIGHT
TZOFFSETFROM:-0500
TZOFFSETTO:-0400
TZNAME:EDT
DTSTART:20210314T070000
END:DAYLIGHT
BEGIN:STANDARD
TZOFFSETFROM:-0400
TZOFFSETTO:-0500
TZNAME:EST
DTSTART:20211107T060000
END:STANDARD
BEGIN:DAYLIGHT
TZOFFSETFROM:-0500
TZOFFSETTO:-0400
TZNAME:EDT
DTSTART:20220313T070000
END:DAYLIGHT
BEGIN:STANDARD
TZOFFSETFROM:-0400
TZOFFSETTO:-0500
TZNAME:EST
DTSTART:20221106T060000
END:STANDARD
END:VTIMEZONE
BEGIN:VEVENT
DTSTART;TZID=America/New_York:20210112T130000
DTEND;TZID=America/New_York:20210112T140000
DTSTAMP:20260423T033013
CREATED:20200921T175311Z
LAST-MODIFIED:20210112T190625Z
UID:2123-1610456400-1610460000@ds.dfci.harvard.edu
SUMMARY:Frontiers in Biostatistics: Statistical Modeling and Adjustment for Sampling Biases
DESCRIPTION:Frontiers in Biostatistics Seminar\nJanuary 12\, 2021\n1:00PM \nJing Ning\, PhD\nAssociate Professor. Department of Biostatistics\nDivision of Quantitative Sciences\nThe University of Texas M.D. Anderson Cancer Center \nRegister at: https://bit.ly/FIBJan12 \nAbstract: Bias sampling mechanisms are commonly encountered in applications where the subjects in a target population are not given an equal chance to be selected\, either accidentally\, by natural circumstances\, or intentionally by design. Statistical methods not properly accounting for such a challenge often lead to invalid inferences. For example\, evidence combined from published studies may lead to overly optimistic conclusions due to publication bias\, and the well-known length bias can cause the screening to appear to be more successful than it really is. In this talk\, I will present our recent work to adjust the sampling biases in diverse applications such as the survivorship bias in prevalent cohort\, the self-reporting bias in longitudinal analysis and the publication bias in meta-analysis.
URL:https://ds.dfci.harvard.edu/event/frontiers-in-biostatistics-jing-ning/
CATEGORIES:Seminar
ATTACH;FMTTYPE=image/png:https://ds.dfci.harvard.edu/wp-content/uploads/2020/09/ning.png
END:VEVENT
END:VCALENDAR