BEGIN:VCALENDAR
VERSION:2.0
PRODID:-//Dana-Farber Cancer Institute - ECPv6.15.20//NONSGML v1.0//EN
CALSCALE:GREGORIAN
METHOD:PUBLISH
X-WR-CALNAME:Dana-Farber Cancer Institute
X-ORIGINAL-URL:https://ds.dfci.harvard.edu
X-WR-CALDESC:Events for Dana-Farber Cancer Institute
REFRESH-INTERVAL;VALUE=DURATION:PT1H
X-Robots-Tag:noindex
X-PUBLISHED-TTL:PT1H
BEGIN:VTIMEZONE
TZID:America/New_York
BEGIN:DAYLIGHT
TZOFFSETFROM:-0500
TZOFFSETTO:-0400
TZNAME:EDT
DTSTART:20200308T070000
END:DAYLIGHT
BEGIN:STANDARD
TZOFFSETFROM:-0400
TZOFFSETTO:-0500
TZNAME:EST
DTSTART:20201101T060000
END:STANDARD
BEGIN:DAYLIGHT
TZOFFSETFROM:-0500
TZOFFSETTO:-0400
TZNAME:EDT
DTSTART:20210314T070000
END:DAYLIGHT
BEGIN:STANDARD
TZOFFSETFROM:-0400
TZOFFSETTO:-0500
TZNAME:EST
DTSTART:20211107T060000
END:STANDARD
BEGIN:DAYLIGHT
TZOFFSETFROM:-0500
TZOFFSETTO:-0400
TZNAME:EDT
DTSTART:20220313T070000
END:DAYLIGHT
BEGIN:STANDARD
TZOFFSETFROM:-0400
TZOFFSETTO:-0500
TZNAME:EST
DTSTART:20221106T060000
END:STANDARD
END:VTIMEZONE
BEGIN:VEVENT
DTSTART;TZID=America/New_York:20211103T130000
DTEND;TZID=America/New_York:20211103T150000
DTSTAMP:20260419T145003
CREATED:20210928T135710Z
LAST-MODIFIED:20211029T115457Z
UID:3043-1635944400-1635951600@ds.dfci.harvard.edu
SUMMARY:Postdoc Recruitment Day
DESCRIPTION:The Dana-Farber Cancer Institute Department of Data Science announces its second annual Postdoc Recruitment Day to be held on Wednesday\, November 3rd from 1-3pm EST. \nIf you are interested in learning more about postdoctoral opportunities at Dana-Farber Cancer Institute and would like to learn about the research our faculty are conducting\, please sign up for this free event. The faculty participating this year are: \n· Sahand Hormoz\, Assistant Professor \n· Rafael Irizarry\, Professor and Department Chair \n· Heng Li\, Assistant Professor \n· Giovanni Parmigiani\, Professor \n· Mehmet Samur\, Senior Research Scientist \n· Nabihah Tayob\, Assistant Professor \nThe faculty will give brief overviews of their current research. You will also hear from current and former postdocs\, and hear about the resources available in the department\, at Dana-Farber and throughout the Boston area. \nSpace is limited and we request that you are actively looking for a postdoctoral position. Please complete this form to request admission. The deadline to apply is October 29th. \nYou can see our open postdoctoral positions on our website: https://ds.dfci.harvard.edu/careers/
URL:https://ds.dfci.harvard.edu/event/postdoc-recruitment-day/
CATEGORIES:Recruitment
END:VEVENT
END:VCALENDAR